Workbook
Name Area_data: #REF!
Name Area_data: #REF!
Name Web_data: #REF!

Sheet Cover
A1: Multi-agency public protection arrangements (MAPPA) annual reports 2025/2026 Tables
A2: Publication details
A3: These tables are published as part of the MAPPA annual report publication by the Ministry of Justice, available online at:
A4: https://www.gov.uk/government/collections/multi-agency-public-protection-arrangements-mappa-annual-reports
A5: Definitions and measurements
A6: Further details of the terminology used to report statistics on MAPPA can be found in the accompanying document on notes and definitions.
A7: Geographic coverage
A8: All tables are for England and Wales.
A9: Data sources
A10: The figures in these tables are collated from data returns from all MAPPA areas.
A11: Data quality
A12: The figures in these tables have been drawn from administrative IT systems which, as with any large scale recording system, are subject to possible errors with data entry and processing.
... A32: Crown copyright Produced by the Ministry of Justice

Sheet Contents
A1: Contents
A2: This worksheet contains one table.
A3: Sheet Name | B3: Sheet Title
A4: =HYPERLINK("#'Notes'!A1", "Notes") -> Notes | B4: Notes
A5: =HYPERLINK("#'Table 1'!A1","Table 1") -> Table 1 | B5: ='Table 1'!A1 -> Table 1: MAPPA-eligible offenders on 31 March [note 1] [note 2] [note 3] [note 4]
A6: =HYPERLINK("#'Table 2'!A1","Table 2") -> Table 2 | B6: ='Table 2'!A1 -> Table 2: Level 2 and Level 3 MAPPA offenders by Sex, Ethnicity and Age on 31 March 2026 [note 5]
A7: =HYPERLINK("#'Table 3!A1","Table 3") -> Table 3 | B7: ='Table 3'!A1 -> Table 3: Category 1 offenders per 100,000 members of the population aged 10 or over on 31 March [note 8]
A8: =HYPERLINK("#'Table 4!A1","Table 4") -> Table 4 | B8: ='Table 4'!A1 -> Table 4: MAPPA-eligible offenders in Level 2 and Level 3 by category (yearly total) [note 2] [note 9]
A9: =HYPERLINK("#'Table 5a!A1","Table 5a") -> Table 5a | B9: ='Table 5a'!A1 -> Table 5a: Number of Category 1 offenders who were either cautioned or convicted for breaches of the notification requirement
A10: =HYPERLINK("#'Table 5b!A1","Table 5b") -> Table 5b | B10: ='Table 5b'!A1 -> Table 5b: Category 1 offenders managed at Level 2 and Level 3 cautioned or convicted for breaches of the notification requirement, 2025/26 [note 13]
A11: =HYPERLINK("#'Table 6!A1","Table 6") -> Table 6 | B11: ='Table 6'!A1 -> Table 6: Sexual Offences Prevention Orders (SOPOs), Sexual Harm Prevention Orders (SHPOs), Notification Orders (NOs) and Foreign Travel Orders (FTOs) imposed by the courts
A12: =HYPERLINK("#'Table 7a!A1","Table 7a") -> Table 7a | B12: ='Table 7a'!A1 -> Table 7a: Offenders managed at Level 2 and Level 3 returned to custody for a breach of licence.
A13: =HYPERLINK("#'Table 7b!A1","Table 7b") -> Table 7b | B13: ='Table 7b'!A1 -> Table 7b: Offenders managed at Level 2 and Level 3 returned to custody for a breach of licence, 2025/26 [note 2]
A14: =HYPERLINK("#'Table 7c!A1","Table 7c") -> Table 7c | B14: ='Table 7c'!A1 -> Table 7c: Category 1 offenders managed at Level 2 and Level 3 sent to custody for breach of SOPO/SHPO
A15: =HYPERLINK("#'Table 7d!A1","Table 7d") -> Table 7d | B15: ='Table 7d'!A1 -> Table 7d: Category 1 offenders managed at Level 2 and Level 3 sent to custody for breach of SOPO/SHPO, 2025/26
A16: =HYPERLINK("#'Table 8!A1","Table 8") -> Table 8 | B16: ='Table 8'!A1 -> Table 8: MAPPA-eligible offenders charged with a Serious Further Offence by management level
A17: =HYPERLINK("#'Table 9a'!A1","Table 9a") -> Table 9a | B17: ='Table 9a'!A1 -> Table 9a: MAPPA-eligible offenders charged with a Serious Further Offence by category of offender in 2025/26 [note 1] [note 2]
A18: =HYPERLINK("#'Table 9b'!A1","Table 9b") -> Table 9b | B18: ='Table 9b'!A1 -> Table 9b: Outcomes of Serious Further Offence charges in 2025/26 [note 2]

Sheet Notes
A1: Notes
A2: This worksheet contains one table.
A3: =HYPERLINK("#'Contents'!A1", "Link to Contents tab") -> Link to Contents tab
A4: Note | B4: Description
A5: [note 1] | B5: Category 3 offenders are only managed at Level 2 and Level 3.
A6: [note 2] | B6: Category 4 relates to terrorist or terrorist risk offenders. It was introduced by the Police Crime Sentencing and Courts Act 2022 and was reported for the first time in 2022/23.
A7: [note 3] | B7: Up to and including 2007/08, figures for Category 2 and Category 3 were a yearly total; from 2008/09 these figures have been taken at 31 March to align reporting methods. Figures for Category 1 have always been taken on 31 March of the relevant year.
A8: [note 4] | B8: Revisions were made to figures for MAPPA Categories without corresponding revisions to figures for MAPPA management levels prior to 2013/14. As a result, the series for MAPPA management levels commences from 2013/14.
A9: [note 5] | B9: Due to differences in reported figures for category-by-level breakdowns, totals across demographic categories may not match or may not sum to the national totals.
A10: [note 6] | B10: "Other" covers any other gender such as gender fluid or non-binary gender.
A11: [note 7] | B11: "Unknown" covers cases where ethnicity is not recorded or the subject declines to respond
A12: [note 8] | B12: Population figures are based on mid-2025 estimates pubished by the Office for National Statistics on 29 July 2026.
A13: [note 9] | B13: This table refers to offenders managed throughout the year and is not comparable to Table 1 which is a snapshot of the MAPPA population at 31 March
A14: [note 10] | B14: Figures in Category 2 and 3 are thought to be an undercount from 2006/07 to 2011/12, so should be viewed as a reflection of the overall trend in the number of MAPPA offenders rather than an absolute count. Figures before and after this point are not comparable.
A15: [note 11] | B15: The question given to MAPPA areas was changed in 2015/16 and so figures are not comparable with earlier years. Figures for 2015/16 onwards only include offenders managed in the community, whereas in previous years some areas included those managed in prison.
... A21: [note 17] | B21: "Any Other Outcome" includes cases dismissed and charges changed to a lesser non-SFO offence.

Sheet Table 1
A1: Table 1: MAPPA-eligible offenders on 31 March [note 1] [note 2] [note 3] [note 4]
A2: This worksheet contains one table.
A4: =HYPERLINK("#'Contents'!A1", "Link to Contents tab") -> Link to Contents tab
A5: Source: MAPPA Areas
A6: Level | B6: Category | C6: 39172 | D6: 39538 | E6: 39903 | F6: 40268 | G6: 40633 | H6: 40999 | I6: 41364 | J6: 41729 | K6: 42094 | L6: 42460 | M6: 42825 | N6: 43190 | O6: 43555 | P6: 43921 | Q6: 44286 | R6: 44651 | S6: 45016 | T6: 45382 | U6: 45747 | V6: 31 Mar 2026
A7: All levels | B7: All categories | C7: [x] | D7: [x] | E7: 44920 | F7: 48879 | G7: 52212 | H7: 55704 | I7: 60096 | J7: 65083 | K7: 68214 | L7: 71905 | M7: 76794 | N7: 80983 | O7: 82921 | P7: =SUM(P8:P10) -> 84530 | Q7: 86799 | R7: 89438 | S7: 91040 | T7: 93436 | U7: 97050 | V7: 102228
A8: All levels | B8: Category 1 | C8: 30416 | D8: 31392 | E8: 32347 | F8: 34939 | G8: 37225 | H8: 40345 | I8: 43567 | J8: 46102 | K8: 49466 | L8: 52770 | M8: 55236 | N8: 58637 | O8: 60294 | P8: 62435 | Q8: 64325 | R8: 66741 | S8: 68357 | T8: 70052 | U8: 73047 | V8: 76395
A9: All levels | B9: Category 2 | C9: 14921 | D9: 16249 | E9: 11689 | F9: 13307 | G9: 14508 | H9: 14947 | I9: 16140 | J9: 18649 | K9: 18493 | L9: 18847 | M9: 21209 | N9: 22056 | O9: 22268 | P9: 21764 | Q9: 22086 | R9: 22304 | S9: 21897 | T9: 22534 | U9: 23237 | V9: 25074
A10: All levels | B10: Category 3 | C10: 3132 | D10: 2569 | E10: 884 | F10: 633 | G10: 479 | H10: 412 | I10: 389 | J10: 332 | K10: 255 | L10: 288 | M10: 349 | N10: 290 | O10: 359 | P10: 331 | Q10: 388 | R10: 393 | S10: 540 | T10: 563 | U10: 557 | V10: 542
A11: All levels | B11: Category 4 | C11: [z] | D11: [z] | E11: [z] | F11: [z] | G11: [z] | H11: [z] | I11: [z] | J11: [z] | K11: [z] | L11: [z] | M11: [z] | N11: [z] | O11: [z] | P11: [z] | Q11: [z] | R11: [z] | S11: 246 | T11: 287 | U11: 209 | V11: 217
A12: Level 1 | B12: All categories | C12: [x] | D12: [x] | E12: [x] | F12: [x] | G12: [x] | H12: [x] | I12: [x] | J12: 63048 | K12: 66641 | L12: 70267 | M12: 75314 | N12: 79559 | O12: 81450 | P12: 83170 | Q12: 85410 | R12: 88050 | S12: 89489 | T12: 91873 | U12: 95639 | V12: 100894
A13: Level 1 | B13: Category 1 | C13: [x] | D13: [x] | E13: [x] | F13: 32965 | G13: 35665 | H13: 39142 | I13: [x] | J13: 45250 | K13: 48784 | L13: 51978 | M13: 54582 | N13: 57989 | O13: 59742 | P13: 61910 | Q13: 63827 | R13: 66265 | S13: 67892 | T13: 69618 | U13: 72668 | V13: 76043
A14: Level 1 | B14: Category 2 | C14: [x] | D14: [x] | E14: [x] | F14: [x] | G14: [x] | H14: [x] | I14: 15332 | J14: 17798 | K14: 17857 | L14: 18289 | M14: 20732 | N14: 21570 | O14: 21708 | P14: =P12-P13 -> 21260 | Q14: =Q12-Q13 -> 21583 | R14: 21785 | S14: 21440 | T14: 22056 | U14: 22864 | V14: 24724
A15: Level 1 | B15: Category 3 | C15: [z] | D15: [z] | E15: [z] | F15: [z] | G15: [z] | H15: [z] | I15: [z] | J15: [z] | K15: [z] | L15: [z] | M15: [z] | N15: [z] | O15: [z] | P15: [z] | Q15: [z] | R15: [z] | S15: [z] | T15: [z] | U15: [z] | V15: [z]
A16: Level 1 | B16: Category 4 | C16: [z] | D16: [z] | E16: [z] | F16: [z] | G16: [z] | H16: [z] | I16: [z] | J16: [z] | K16: [z] | L16: [z] | M16: [z] | N16: [z] | O16: [z] | P16: [z] | Q16: [z] | R16: [z] | S16: 157 | T16: 199 | U16: 107 | V16: 127
A17: Level 2 | B17: All categories | C17: [x] | D17: [x] | E17: [x] | F17: [x] | G17: [x] | H17: [x] | I17: [x] | J17: 1877 | K17: 1452 | L17: 1503 | M17: 1326 | N17: 1276 | O17: 1331 | P17: 1202 | Q17: 1233 | R17: 1213 | S17: 1348 | T17: 1356 | U17: 1218 | V17: 1159
A18: Level 2 | B18: Category 1 | C18: [x] | D18: [x] | E18: [x] | F18: 1856 | G18: 1467 | H18: 1133 | I18: [x] | J18: 797 | K18: 645 | L18: 743 | M18: 609 | N18: 601 | O18: 511 | P18: 483 | Q18: 459 | R18: 419 | S18: 419 | T18: 384 | U18: 336 | V18: 313
A19: Level 2 | B19: Category 2 | C19: [x] | D19: [x] | E19: [x] | F19: [x] | G19: [x] | H19: [x] | I19: 763 | J19: 787 | K19: 582 | L19: 511 | M19: 439 | N19: 426 | O19: 504 | P19: 441 | Q19: 441 | R19: 450 | S19: 418 | T19: 419 | U19: 333 | V19: 324
A20: Level 2 | B20: Category 3 | C20: [x] | D20: [x] | E20: [x] | F20: 576 | G20: 438 | H20: 374 | I20: 354 | J20: 293 | K20: 225 | L20: 249 | M20: 278 | N20: 249 | O20: 316 | P20: 278 | Q20: 333 | R20: 344 | S20: 481 | T20: 510 | U20: 500 | V20: 484
A21: Level 2 | B21: Category 4 | C21: [z] | D21: [z] | E21: [z] | F21: [z] | G21: [z] | H21: [z] | I21: [z] | J21: [z] | K21: [z] | L21: [z] | M21: [z] | N21: [z] | O21: [z] | P21: [z] | Q21: [z] | R21: [z] | S21: 30 | T21: 43 | U21: 49 | V21: 38
A22: Level 3 | B22: All categories | C22: [x] | D22: [x] | E22: [x] | F22: [x] | G22: [x] | H22: [x] | I22: [x] | J22: 158 | K22: 121 | L22: 135 | M22: 154 | N22: 148 | O22: 140 | P22: 158 | Q22: 156 | R22: 175 | S22: 203 | T22: 207 | U22: 193 | V22: 175
A23: Level 3 | B23: Category 1 | C23: [x] | D23: [x] | E23: [x] | F23: 118 | G23: 93 | H23: 70 | I23: [x] | J23: 55 | K23: 37 | L23: 49 | M23: 45 | N23: 47 | O23: 41 | P23: 42 | Q23: 39 | R23: 57 | S23: 46 | T23: 50 | U23: 43 | V23: 39
A24: Level 3 | B24: Category 2 | C24: [x] | D24: [x] | E24: [x] | F24: [x] | G24: [x] | H24: [x] | I24: 45 | J24: 64 | K24: 54 | L24: 47 | M24: 38 | N24: 60 | O24: 56 | P24: 63 | Q24: 62 | R24: 69 | S24: 39 | T24: 59 | U24: 40 | V24: 26
A25: Level 3 | B25: Category 3 | C25: [x] | D25: [x] | E25: [x] | F25: 57 | G25: 41 | H25: 38 | I25: 35 | J25: 39 | K25: 30 | L25: 39 | M25: 71 | N25: 41 | O25: 43 | P25: 53 | Q25: 55 | R25: 49 | S25: 59 | T25: 53 | U25: 57 | V25: 58
A26: Level 3 | B26: Category 4 | C26: [z] | D26: [z] | E26: [z] | F26: [z] | G26: [z] | H26: [z] | I26: [z] | J26: [z] | K26: [z] | L26: [z] | M26: [z] | N26: [z] | O26: [z] | P26: [z] | Q26: [z] | R26: [z] | S26: 59 | T26: 45 | U26: 53 | V26: 52
AA29: ​

Sheet Table 2
A1: Table 2: Level 2 and Level 3 MAPPA offenders by Sex, Ethnicity and Age on 31 March 2026 [note 5]
A2: This worksheet contains one table.
A4: =HYPERLINK("#'Contents'!A1", "Link to Contents tab") -> Link to Contents tab
A5: Source: MAPPA Areas
A6: Main characteristic | B6: Sub group | C6: Category 1 | D6: Category 2 | E6: Category 3 | F6: Category 4 | G6: Level 2 | H6: Level 3
A7: Sex | B7: Males | C7: 340 | D7: 323 | E7: 490 | F7: 83 | G7: 1080 | H7: 156
A8: Sex | B8: Females | C8: 9 | D8: [c] | E8: 46 | F8: [c] | G8: 75 | H8: 13
A9: Sex | B9: Other [note 6] | C9: 3 | D9: [c] | E9: 6 | F9: [c] | G9: 4 | H9: 6
A10: Ethnicity | B10: Asian or Asian British | C10: 14 | D10: 12 | E10: 20 | F10: 33 | G10: 53 | H10: 26
A11: Ethnicity | B11: Black or Black British | C11: 26 | D11: 41 | E11: 47 | F11: 6 | G11: 105 | H11: 15
A12: Ethnicity | B12: Mixed | C12: 17 | D12: 28 | E12: 35 | F12: 4 | G12: 71 | H12: 13
A13: Ethnicity | B13: White | C13: 272 | D13: 254 | E13: 409 | F13: 40 | G13: 866 | H13: 109
A14: Ethnicity | B14: Other | C14: 7 | D14: 8 | E14: 13 | F14: 4 | G14: 24 | H14: 8
A15: Ethnicity | B15: Unknown [note 7] | C15: 16 | D15: 7 | E15: 18 | F15: 3 | G15: 40 | H15: 4
A16: Age | B16: Under 18 | C16: 5 | D16: 14 | E16: 26 | F16: 0 | G16: 37 | H16: 8
A17: Age | B17: 18-21 | C17: 24 | D17: 28 | E17: 72 | F17: 12 | G17: 116 | H17: 20
A18: Age | B18: 22-25 | C18: 26 | D18: 37 | E18: 59 | F18: 13 | G18: 115 | H18: 20
A19: Age | B19: 26-30 | C19: 32 | D19: 36 | E19: 74 | F19: 14 | G19: 140 | H19: 16
A20: Age | B20: 31-40 | C20: 104 | D20: 113 | E20: 162 | F20: 23 | G20: 361 | H20: 41
A21: Age | B21: 41-50 | C21: 63 | D21: 69 | E21: 108 | F21: 21 | G21: 220 | H21: 41
A22: Age | B22: 51-60 | C22: 44 | D22: 33 | E22: 27 | F22: 7 | G22: 90 | H22: 21
A23: Age | B23: 61-70 | C23: 42 | D23: [c] | E23: [c] | F23: 0 | G23: 64 | H23: 8
A24: Age | B24: Over 70 | C24: 12 | D24: [c] | E24: [c] | F24: 0 | G24: 16 | H24: 0

Sheet Table 3
A1: Table 3: Category 1 offenders per 100,000 members of the population aged 10 or over on 31 March [note 8]
A2: This worksheet contains one table.
A4: =HYPERLINK("#'Contents'!A1", "Link to Contents tab") -> Link to Contents tab
A5: Source: MAPPA Areas
A6: Year | B6: Number of Category 1 offenders per 100,000 members of the population aged 10+
A7: 2006/07 | B7: 64
A8: 2007/08 | B8: 66
A9: 2008/09 | B9: 67
A10: 2009/10 | B10: 72
A11: 2010/11 | B11: 76
A12: 2011/12 | B12: 81
A13: 2012/13 | B13: 88
A14: 2013/14 | B14: 92
A15: 2014/15 | B15: 98
A16: 2015/16 | B16: 104
A17: 2016/17 | B17: 108
A18: 2017/18 | B18: 114
... A26: 2025/26 | B26: 138

Sheet Table 4
A1: Table 4: MAPPA-eligible offenders in Level 2 and Level 3 by category (yearly total) [note 2] [note 9]
A2: This worksheet contains one table.
A4: =HYPERLINK("#'Contents'!A1", "Link to Contents tab") -> Link to Contents tab
A5: Source: MAPPA Areas
A6: Year | B6: Category 1 Level 2 | C6: Category 1 Level 3 | D6: Category 2 Level 2 | E6: Category 2 Level 3 | F6: Category 3 Level 2 | G6: Category 3 Level 3 | H6: Category 4 Level 2 | I6: Category 4 Level 3 | J6: Level 2 | K6: Level 3
A7: 2006/07 [note 10] | B7: 5894 | C7: 558 | D7: 5205 | E7: 502 | F7: 2943 | G7: 189 | J7: 14042 | K7: 1249
A8: 2007/08 [note 10] | B8: 5271 | C8: 507 | D8: 4057 | E8: 402 | F8: 2406 | G8: 163 | J8: 11734 | K8: 1072
A9: 2008/09 [note 10] | B9: 4408 | C9: 424 | D9: 3891 | E9: 320 | F9: 1701 | G9: 179 | J9: 10000 | K9: 923
A10: 2009/10 [note 10] | B10: 3833 | C10: 362 | D10: 3499 | E10: 313 | F10: 1461 | G10: 168 | J10: 8793 | K10: 843
A11: 2010/11 [note 10] | B11: 3337 | C11: 308 | D11: 3126 | E11: 281 | F11: 1338 | G11: 145 | J11: 7801 | K11: 734
A12: 2011/12 [note 10] | B12: 2956 | C12: 298 | D12: 2750 | E12: 242 | F12: 1233 | G12: 124 | J12: 6939 | K12: 664
A13: 2012/13 | B13: 2497 | C13: 257 | D13: 3431 | E13: 248 | F13: 1211 | G13: 139 | J13: 7139 | K13: 644
A14: 2013/14 | B14: 2238 | C14: 244 | D14: 3196 | E14: 248 | F14: 1237 | G14: 143 | J14: 6671 | K14: 635
A15: 2014/15 | B15: 2131 | C15: 216 | D15: 2865 | E15: 226 | F15: 959 | G15: 109 | J15: 5955 | K15: 551
A16: 2015/16 [note 11] | B16: 1893 | C16: 166 | D16: 2011 | E16: 134 | F16: 924 | G16: 109 | J16: 4828 | K16: 409
A17: 2016/17 | B17: 1771 | C17: 137 | D17: 1601 | E17: 134 | F17: 926 | G17: 102 | J17: 4298 | K17: 373
A18: 2017/18 | B18: 1648 | C18: 163 | D18: 1457 | E18: 151 | F18: 826 | G18: 105 | J18: 3931 | K18: 419
... A22: 2021/22 | B22: 1213 | C22: 128 | D22: 1361 | E22: 195 | F22: 1090 | G22: 166 | J22: 3664 | K22: 489
A23: 2022/23 | B23: 1157 | C23: 190 | D23: 1265 | E23: 134 | F23: 1299 | G23: 166 | H23: 45 | I23: 114 | J23: 3766 | K23: 604
A24: 2023/24 | B24: 1131 | C24: 172 | D24: 1277 | E24: 146 | F24: 1553 | G24: 171 | H24: 56 | I24: 79 | J24: 4017 | K24: 568
A25: 2024/25 | B25: 1183 | C25: 154 | D25: 1347 | E25: 141 | F25: 1755 | G25: 209 | H25: 68 | I25: 77 | J25: 4353 | K25: 581
A26: 2025/26 | B26: 1079 | C26: 170 | D26: 1269 | E26: 143 | F26: 1697 | G26: 208 | H26: 95 | I26: 137 | J26: 4140 | K26: 658

Sheet Table 5a
A1: Table 5a: Number of Category 1 offenders who were either cautioned or convicted for breaches of the notification requirement
A2: This worksheet contains one table.
A4: =HYPERLINK("#'Contents'!A1", "Link to Contents tab") -> Link to Contents tab
A5: Source: MAPPA Areas
A6: Year | B6: Convicted | C6: Cautioned | D6: Number cautioned or convicted
A7: 2006/07 | B7: [z] | C7: [z] | D7: 1552
A8: 2007/08 | B8: [z] | C8: [z] | D8: 1634
A9: 2008/09 | B9: [z] | C9: [z] | D9: 1337
A10: 2009/10 | B10: [z] | C10: [z] | D10: 1518
A11: 2010/11 | B11: [z] | C11: [z] | D11: 1492
A12: 2011/12 | B12: [z] | C12: [z] | D12: 1371
A13: 2012/13 | B13: [z] | C13: [z] | D13: 1576
A14: 2013/14 | B14: [z] | C14: [z] | D14: 2057
A15: 2014/15 | B15: [z] | C15: [z] | D15: 2070
A16: 2015/16 [note 12] | B16: [z] | C16: [z] | D16: 1547
A17: 2016/17 | B17: [z] | C17: [z] | D17: 1739
A18: 2017/18 | B18: [z] | C18: [z] | D18: 1950
... A24: 2023/24 | B24: [z] | C24: [z] | D24: 2375
A25: 2024/25 | B25: 1932 | C25: 490 | D25: 2422
A26: 2025/26 | B26: 2293 | C26: 600 | D26: =SUM(B26:C26) -> 2893

Sheet Table 5b
A1: Table 5b: Category 1 offenders managed at Level 2 and Level 3 cautioned or convicted for breaches of the notification requirement, 2025/26 [note 13]
A2: This worksheet contains one table.
A4: =HYPERLINK("#'Contents'!A1", "Link to Contents tab") -> Link to Contents tab
A5: Source: MAPPA Areas
A6: Level | B6: Category | C6: Count | D6: Number of MAPPA-eligible offenders | E6: Per cent of MAPPA eligble offenders
A7: Level 1 [note 10] | B7: All | C7: =SUM(C8:C9) -> 2789 | D7: [z] | E7: [z]
A8: Level 1 [note 10] | B8: Convicted | C8: 2193 | D8: [z] | E8: [z]
A9: Level 1 [note 10] | B9: Cautioned | C9: 596 | D9: [z] | E9: [z]
A10: Level 2 | B10: All | C10: =SUM(C11:C12) -> 92 | D10: =D11 -> 1079 | E10: =C10/D10 -> 0.085264133
A11: Level 2 | B11: Convicted | C11: 88 | D11: ='Table 4'!B26 -> 1079 | E11: =C11/D11 -> 0.081556997
A12: Level 2 | B12: Cautioned | C12: 4 | D12: =D11 -> 1079 | E12: =C12/D12 -> 0.0037071362
A13: Level 3 | B13: All | C13: =SUM(C14:C15) -> 12 | D13: =D14 -> 170 | E13: =C13/D13 -> 0.070588235
A14: Level 3 | B14: Convicted | C14: 12 | D14: ='Table 4'!C26 -> 170 | E14: =C14/D14 -> 0.070588235
A15: Level 3 | B15: Cautioned | C15: 0 | D15: =D14 -> 170 | E15: =C15/D15 -> 0

Sheet Table 6
A1: Table 6: Sexual Offences Prevention Orders (SOPOs), Sexual Harm Prevention Orders (SHPOs), Notification Orders (NOs) and Foreign Travel Orders (FTOs) imposed by the courts
A2: This worksheet contains one table.
A4: =HYPERLINK("#'Contents'!A1", "Link to Contents tab") -> Link to Contents tab
A5: Source: MAPPA Areas
A6: Year | B6: SOPOs/SHPOs imposed | C6: NOs imposed | D6: FTOs/SHPOs with Foreign Travel Restrictions imposed
A7: 2006/07 | B7: 1114 | C7: 62 | D7: 3
A8: 2007/08 | B8: 1440 | C8: 70 | D8: 1
A9: 2008/09 | B9: 1512 | C9: 72 | D9: 12
A10: 2009/10 | B10: 1862 | C10: 67 | D10: 15
A11: 2010/11 | B11: 2438 | C11: 74 | D11: 22
A12: 2011/12 | B12: 2658 | C12: 92 | D12: 14
A13: 2012/13 | B13: 3064 | C13: 87 | D13: 13
A14: 2013/14 | B14: 3243 | C14: 116 | D14: 11
A15: 2014/15 | B15: 3706 | C15: 137 | D15: 4
A16: 2015/16 [note 14] | B16: 3873 | C16: 104 | D16: 8
A17: 2016/17 | B17: 5931 | C17: 117 | D17: 4
A18: 2017/18 | B18: 5551 | C18: 97 | D18: 11
... A26: 2025/26 | B26: 7608 | C26: 154 | D26: 9

Sheet Table 7a
A1: Table 7a: Offenders managed at Level 2 and Level 3 returned to custody for a breach of licence.
A2: This worksheet contains one table.
A4: =HYPERLINK("#'Contents'!A1", "Link to Contents tab") -> Link to Contents tab
A5: Source: MAPPA Areas
A6: Year | B6: Level 2 | C6: Level 3 | D6: Total
A7: 2006/07 | B7: 1566 | C7: 218 | D7: 1784
A8: 2007/08 | B8: 1451 | C8: 208 | D8: 1659
A9: 2008/09 | B9: 1297 | C9: 117 | D9: 1414
A10: 2009/10 | B10: 997 | C10: 119 | D10: 1116
A11: 2010/11 | B11: 886 | C11: 122 | D11: 1008
A12: 2011/12 | B12: 786 | C12: 91 | D12: 877
A13: 2012/13 | B13: 803 | C13: 100 | D13: 903
A14: 2013/14 | B14: 762 | C14: 88 | D14: 850
A15: 2014/15 | B15: 607 | C15: 77 | D15: 684
A16: 2015/16 | B16: 705 | C16: 60 | D16: 765
A17: 2016/17 | B17: 625 | C17: 72 | D17: 697
A18: 2017/18 | B18: 521 | C18: 66 | D18: 587
... A23: 2022/23 | B23: 882 | C23: 155 | D23: 1037
A24: 2023/24 | B24: 967 | C24: 137 | D24: =SUM(B24:C24) -> 1104
A25: 2024/25 | B25: 1091 | C25: 158 | D25: 1249
A26: 2025/26 | B26: 1248 | C26: 166 | D26: 1414

Sheet Table 7b
A1: Table 7b: Offenders managed at Level 2 and Level 3 returned to custody for a breach of licence, 2025/26 [note 2]
A2: This worksheet contains one table.
A4: =HYPERLINK("#'Contents'!A1", "Link to Contents tab") -> Link to Contents tab
A5: Source: MAPPA Areas
A6: Categories | B6: Levels | C6: Number returned to custody | D6: Number of MAPPA-eligible offenders | E6: Per cent returned to custody
A7: All categories | B7: Level 2 and Level 3 | C7: =SUM(C8:C9) -> 1414 | D7: =SUM(D8:D9) -> 4798 | E7: =C7/D7 -> 0.29470613
A8: All categories | B8: Level 2 | C8: =SUM(C11,C14,C17,C20) -> 1248 | D8: =SUM(D20,D17,D14,D11) -> 4140 | E8: =C8/D8 -> 0.30144928
A9: All categories | B9: Level 3 | C9: =SUM(C12,C15,C18,C21) -> 166 | D9: =SUM(D21,D18,D15,D12) -> 658 | E9: =C9/D9 -> 0.25227964
A10: Category 1 | B10: Level 2 and Level 3 | C10: =SUM(C11:C12) -> 359 | D10: =SUM(D11:D12) -> 1249 | E10: =C10/D10 -> 0.28742994
A11: Category 1 | B11: Level 2 | C11: 311 | D11: ='Table 4'!B26 -> 1079 | E11: =C11/D11 -> 0.28822984
A12: Category 1 | B12: Level 3 | C12: 48 | D12: ='Table 4'!C26 -> 170 | E12: =C12/D12 -> 0.28235294
A13: Category 2 | B13: Level 2 and Level 3 | C13: =SUM(C14:C15) -> 514 | D13: =SUM(D14:D15) -> 1412 | E13: =C13/D13 -> 0.36402266
A14: Category 2 | B14: Level 2 | C14: 464 | D14: ='Table 4'!D26 -> 1269 | E14: =C14/D14 -> 0.36564224
A15: Category 2 | B15: Level 3 | C15: 50 | D15: ='Table 4'!E26 -> 143 | E15: =C15/D15 -> 0.34965035
A16: Category 3 | B16: Level 2 and Level 3 | C16: =SUM(C17:C18) -> 517 | D16: =SUM(D17:D18) -> 1905 | E16: =C16/D16 -> 0.27139108
A17: Category 3 | B17: Level 2 | C17: 469 | D17: ='Table 4'!F26 -> 1697 | E17: =C17/D17 -> 0.27637006
A18: Category 3 | B18: Level 3 | C18: 48 | D18: ='Table 4'!G26 -> 208 | E18: =C18/D18 -> 0.23076923
A19: Category 4 | B19: Level 2 and Level 3 | C19: =SUM(C20:C21) -> 24 | D19: =SUM(D20:D21) -> 232 | E19: =C19/D19 -> 0.10344828
A20: Category 4 | B20: Level 2 | C20: 4 | D20: ='Table 4'!H26 -> 95 | E20: =C20/D20 -> 0.042105263
A21: Category 4 | B21: Level 3 | C21: 20 | D21: ='Table 4'!I26 -> 137 | E21: =C21/D21 -> 0.1459854

Sheet Table 7c
A1: Table 7c: Category 1 offenders managed at Level 2 and Level 3 sent to custody for breach of SOPO/SHPO
A2: This worksheet contains one table.
A4: =HYPERLINK("#'Contents'!A1", "Link to Contents tab") -> Link to Contents tab
A5: Source: MAPPA Areas
A6: Year | B6: Level 2 | C6: Level 3 | D6: Total
A7: 2006/07 | B7: 72 | C7: 17 | D7: 89
A8: 2007/08 | B8: 76 | C8: 20 | D8: 96
A9: 2008/09 | B9: 58 | C9: 10 | D9: 68
A10: 2009/10 | B10: 81 | C10: 8 | D10: 89
A11: 2010/11 | B11: 45 | C11: 12 | D11: 57
A12: 2011/12 | B12: 65 | C12: 15 | D12: 80
A13: 2012/13 [note 15] | B13: [x] | C13: [x] | D13: [x]
A14: 2013/14 | B14: 66 | C14: 11 | D14: 77
A15: 2014/15 | B15: 57 | C15: 7 | D15: 64
A16: 2015/16 [note 14] | B16: 38 | C16: 15 | D16: 53
A17: 2016/17 | B17: 44 | C17: 6 | D17: 50
A18: 2017/18 | B18: 35 | C18: 7 | D18: 42
A19: 2018/19 | B19: 49 | C19: 5 | D19: 54
A20: 2019/20 | B20: 33 | C20: 12 | D20: 45
A21: 2020/21 | B21: 23 | C21: 3 | D21: 26
A22: 2021/22 | B22: 28 | C22: 9 | D22: 37
A23: 2022/23 | B23: 18 | C23: 7 | D23: 25
A24: 2023/24 | B24: 23 | C24: 8 | D24: =SUM(B24:C24) -> 31
A25: 2024/25 | B25: 65 | C25: 13 | D25: 78
A26: 2025/26 | B26: 65 | C26: 14 | D26: 79

Sheet Table 7d
A1: Table 7d: Category 1 offenders managed at Level 2 and Level 3 sent to custody for breach of SOPO/SHPO, 2025/26
A2: This worksheet contains one table.
A4: =HYPERLINK("#'Contents'!A1", "Link to Contents tab") -> Link to Contents tab
A5: Source: MAPPA Areas
A6: Level | B6: Number sent to custody | C6: Number of MAPPA-eligible offenders managed in the year | D6: Per cent sent to custody
A7: Level 2 and Level 3 | B7: 79 | C7: =SUM(C8:C9) -> 1249 | D7: =B7/C7 -> 0.0632506
A8: Level 2 | B8: 65 | C8: 1079 | D8: =B8/C8 -> 0.060240964
A9: Level 3 | B9: 14 | C9: 170 | D9: =B9/C9 -> 0.082352941

Sheet Table 8
A1: Table 8: MAPPA-eligible offenders charged with a Serious Further Offence by management level
A2: This worksheet contains one table.
A4: =HYPERLINK("#'Contents'!A1", "Link to Contents tab") -> Link to Contents tab
A5: Source: MAPPA Areas
A6: Year | B6: Level 1 | C6: Level 2 | D6: Level 3 | E6: Total
A7: 2006/07 | B7: [x] | C7: 69 | D7: 13 | E7: [x]
A8: 2007/08 | B8: [x] | C8: 72 | D8: 7 | E8: [x]
A9: 2008/09 [note 16] | B9: [x] | C9: 40 | D9: 8 | E9: [x]
A10: 2009/10 | B10: 162 | C10: 31 | D10: 3 | E10: 196
A11: 2010/11 | B11: 108 | C11: 23 | D11: 3 | E11: 134
A12: 2011/12 | B12: 116 | C12: 24 | D12: 7 | E12: 147
A13: 2012/13 | B13: 125 | C13: 18 | D13: 6 | E13: 149
A14: 2013/14 | B14: 143 | C14: 28 | D14: 3 | E14: 174
A15: 2014/15 | B15: 185 | C15: 36 | D15: 1 | E15: 222
A16: 2015/16 | B16: 164 | C16: 28 | D16: 1 | E16: 193
A17: 2016/17 | B17: 200 | C17: 16 | D17: 1 | E17: 217
A18: 2017/18 | B18: 220 | C18: 19 | D18: 3 | E18: 242
A19: 2018/19 | B19: 165 | C19: 13 | D19: 1 | E19: 179
A20: 2019/20 | B20: 173 | C20: 17 | D20: 2 | E20: 192
A21: 2020/21 | B21: 148 | C21: 16 | D21: 4 | E21: 168
... A23: 2022/23 | B23: 138 | C23: 23 | D23: 2 | E23: 163
A24: 2023/24 | B24: 183 | C24: 28 | D24: 5 | E24: =SUM(B24:D24) -> 216
A25: 2024/25 | B25: 213 | C25: 36 | D25: 4 | E25: 253
A26: 2025/26 | B26: 229 | C26: 49 | D26: 3 | E26: =SUM(B26:D26) -> 281

Sheet Table 9a
A1: Table 9a: MAPPA-eligible offenders charged with a Serious Further Offence by category of offender in 2025/26 [note 1] [note 2]
A2: This worksheet contains one table.
A4: =HYPERLINK("#'Contents'!A1", "Link to Contents tab") -> Link to Contents tab
A5: Source: MAPPA Areas
A6: Category | B6: Level | C6: 2015/16 | D6: 2016/17 | E6: 2017/18 | F6: 2018/19 | G6: 2019/20 | H6: 2020/21 | I6: 2021/22 | J6: 2022/23 | K6: 2023/24 | L6: 2024/25 | M6: 2025/26
A7: All categories | B7: All levels | C7: 193 | D7: 217 | E7: 242 | F7: 179 | G7: 192 | H7: 168 | I7: 172 | J7: 163 | K7: 216 | L7: 253 | M7: 281
A8: All categories | B8: Level 1 | C8: 164 | D8: 200 | E8: 220 | F8: 165 | G8: 173 | H8: 148 | I8: 144 | J8: 138 | K8: 183 | L8: 213 | M8: 229
A9: All categories | B9: Level 2 | C9: 28 | D9: 16 | E9: 19 | F9: 13 | G9: 17 | H9: 16 | I9: 22 | J9: 23 | K9: 28 | L9: 36 | M9: 49
A10: All categories | B10: Level 3 | C10: 1 | D10: 1 | E10: 3 | F10: 1 | G10: 2 | H10: 4 | I10: 6 | J10: 2 | K10: 5 | L10: 4 | M10: 3
A11: Category 1 | B11: All levels | C11: 69 | D11: 97 | E11: 92 | F11: 68 | G11: 82 | H11: 64 | I11: 69 | J11: 76 | K11: 93 | L11: 129 | M11: 119
A12: Category 1 | B12: Level 1 | C12: 61 | D12: 88 | E12: 82 | F12: 64 | G12: 75 | H12: 55 | I12: 60 | J12: 65 | K12: 85 | L12: 113 | M12: 108
A13: Category 1 | B13: Level 2 | C13: 8 | D13: 9 | E13: 8 | F13: 3 | G13: 6 | H13: 7 | I13: 5 | J13: 10 | K13: 7 | L13: 14 | M13: 11
A14: Category 1 | B14: Level 3 | C14: 0 | D14: 0 | E14: 2 | F14: 1 | G14: 1 | H14: 2 | I14: 4 | J14: 1 | K14: 1 | L14: 2 | M14: 0
A15: Category 2 | B15: All levels | C15: 116 | D15: 115 | E15: 147 | F15: 107 | G15: 106 | H15: 98 | I15: 95 | J15: 76 | K15: 104 | L15: 108 | M15: 128
A16: Category 2 | B16: Level 1 | C16: 103 | D16: 112 | E16: 138 | F16: 101 | G16: 98 | H16: 93 | I16: 84 | J16: 73 | K16: 98 | L16: 100 | M16: 120
A17: Category 2 | B17: Level 2 | C17: 12 | D17: 2 | E17: 8 | F17: 6 | G17: 8 | H17: 5 | I17: 9 | J17: 3 | K17: 5 | L17: 8 | M17: 7
A18: Category 2 | B18: Level 3 | C18: 1 | D18: 1 | E18: 1 | F18: 0 | G18: 0 | H18: 0 | I18: 2 | J18: 0 | K18: 1 | L18: 0 | M18: 1
A19: Category 3 | B19: All levels | C19: 8 | D19: 5 | E19: 3 | F19: 4 | G19: 4 | H19: 6 | I19: 8 | J19: 11 | K19: 18 | L19: 15 | M19: 30
A20: Category 3 | B20: Level 1 | C20: [z] | D20: [z] | E20: [z] | F20: [z] | G20: [z] | H20: [z] | I20: [z] | J20: [z] | K20: [z] | L20: [z] | M20: [z]
A21: Category 3 | B21: Level 2 | C21: 8 | D21: 5 | E21: 3 | F21: 4 | G21: 3 | H21: 4 | I21: 8 | J21: 10 | K21: 16 | L21: 14 | M21: 30
A22: Category 3 | B22: Level 3 | C22: 0 | D22: 0 | E22: 0 | F22: 0 | G22: 1 | H22: 2 | I22: 0 | J22: 1 | K22: 2 | L22: 1 | M22: 0
A23: Category 4 | B23: All levels | C23: [z] | D23: [z] | E23: [z] | F23: [z] | G23: [z] | H23: [z] | I23: [z] | J23: 0 | K23: 1 | L23: 1 | M23: 4
A24: Category 4 | B24: Level 1 | C24: [z] | D24: [z] | E24: [z] | F24: [z] | G24: [z] | H24: [z] | I24: [z] | J24: 0 | K24: 0 | L24: 0 | M24: 1
A25: Category 4 | B25: Level 2 | C25: [z] | D25: [z] | E25: [z] | F25: [z] | G25: [z] | H25: [z] | I25: [z] | J25: 0 | K25: 0 | L25: 0 | M25: 1
A26: Category 4 | B26: Level 3 | C26: [z] | D26: [z] | E26: [z] | F26: [z] | G26: [z] | H26: [z] | I26: [z] | J26: 0 | K26: 1 | L26: 1 | M26: 2

Sheet Table 9b
A1: Table 9b: Outcomes of Serious Further Offence charges in 2025/26 [note 2]
A2: This worksheet contains one table.
A4: =HYPERLINK("#'Contents'!A1", "Link to Contents tab") -> Link to Contents tab
A5: Source: MAPPA Areas
A6: Category | B6: Level | C6: Outcome | D6: 2015/16 | E6: 2016/17 | F6: 2017/18 | G6: 2018/19 | H6: 2019/20 | I6: 2020/21 | J6: 2021/22 | K6: 2022/23 | L6: 2023/24 | M6: 2024/25 | N6: 2025/26
A7: All categories | B7: All levels | C7: All outcomes | D7: 275 | E7: 293 | F7: 335 | G7: 275 | H7: 284 | I7: 258 | J7: 291 | K7: 274 | L7: 330 | M7: 361 | N7: 420
A8: All categories | B8: All levels | C8: Convictions | D8: 138 | E8: 139 | F8: 160 | G8: 130 | H8: 146 | I8: 85 | J8: 127 | K8: 115 | L8: 132 | M8: 151 | N8: 140
A9: All categories | B9: All levels | C9: Outstanding | D9: 74 | E9: 92 | F9: 94 | G9: 92 | H9: 89 | I9: 137 | J9: 112 | K9: 113 | L9: 116 | M9: 141 | N9: 186
A10: All categories | B10: All levels | C10: Other outcomes | D10: 63 | E10: 62 | F10: 81 | G10: 53 | H10: 49 | I10: 36 | J10: 52 | K10: 46 | L10: 82 | M10: 69 | N10: 94
A11: All categories | B11: Level 1 | C11: All outcomes | D11: 235 | E11: 266 | F11: 307 | G11: 252 | H11: 260 | I11: 226 | J11: 254 | K11: 236 | L11: 278 | M11: 308 | N11: 357
A12: All categories | B12: Level 1 | C12: Convictions | D12: 119 | E12: 128 | F12: 147 | G12: 116 | H12: 138 | I12: 70 | J12: 114 | K12: 102 | L12: 114 | M12: 125 | N12: 126
A13: All categories | B13: Level 1 | C13: Outstanding | D13: 64 | E13: 87 | F13: 86 | G13: 87 | H13: 77 | I13: 122 | J13: 97 | K13: 95 | L13: 99 | M13: 128 | N13: 147
A14: All categories | B14: Level 1 | C14: Other outcomes | D14: 52 | E14: 51 | F14: 74 | G14: 49 | H14: 45 | I14: 34 | J14: 43 | K14: 39 | L14: 65 | M14: 55 | N14: 84
A15: All categories | B15: Level 2 | C15: All outcomes | D15: 37 | E15: 26 | F15: 24 | G15: 21 | H15: 22 | I15: 27 | J15: 30 | K15: 36 | L15: 46 | M15: 46 | N15: 58
A16: All categories | B16: Level 2 | C16: Convictions | D16: 18 | E16: 11 | F16: 12 | G16: 12 | H16: 8 | I16: 14 | J16: 11 | K16: 13 | L16: 16 | M16: 24 | N16: 13
A17: All categories | B17: Level 2 | C17: Outstanding | D17: 9 | E17: 5 | F17: 7 | G17: 5 | H17: 11 | I17: 11 | J17: 13 | K17: 17 | L17: 14 | M17: 11 | N17: 35
A18: All categories | B18: Level 2 | C18: Other outcomes | D18: 10 | E18: 10 | F18: 5 | G18: 4 | H18: 3 | I18: 2 | J18: 6 | K18: 6 | L18: 16 | M18: 11 | N18: 10
... A58: Category 3 | B58: All levels | C58: Other outcomes | D58: 4 | E58: 6 | F58: 3 | G58: 1 | H58: 2 | I58: 0 | J58: 1 | K58: 1 | L58: 7 | M58: 9 | N58: 5
A59: Category 3 | B59: Level 1 | C59: All outcomes | D59: [z] | E59: [z] | F59: [z] | G59: [z] | H59: [z] | I59: [z] | J59: [z] | K59: [z] | L59: [z] | M59: [z] | N59: [z]
A60: Category 3 | B60: Level 1 | C60: Convictions | D60: [z] | E60: [z] | F60: [z] | G60: [z] | H60: [z] | I60: [z] | J60: [z] | K60: [z] | L60: [z] | M60: [z] | N60: [z]
A61: Category 3 | B61: Level 1 | C61: Outstanding | D61: [z] | E61: [z] | F61: [z] | G61: [z] | H61: [z] | I61: [z] | J61: [z] | K61: [z] | L61: [z] | M61: [z] | N61: [z]
A62: Category 3 | B62: Level 1 | C62: Other outcomes | D62: [z] | E62: [z] | F62: [z] | G62: [z] | H62: [z] | I62: [z] | J62: [z] | K62: [z] | L62: [z] | M62: [z] | N62: [z]
A63: Category 3 | B63: Level 2 | C63: All outcomes | D63: 10 | E63: 9 | F63: 5 | G63: 5 | H63: 4 | I63: 6 | J63: 10 | K63: 14 | L63: 25 | M63: 23 | N63: 34
A64: Category 3 | B64: Level 2 | C64: Convictions | D64: 4 | E64: 1 | F64: 2 | G64: 3 | H64: 1 | I64: 4 | J64: 5 | K64: 4 | L64: 8 | M64: 10 | N64: 7
A65: Category 3 | B65: Level 2 | C65: Outstanding | D65: 3 | E65: 2 | F65: 1 | G65: 1 | H65: 2 | I65: 2 | J65: 4 | K65: 9 | L65: 11 | M65: 5 | N65: 22
A66: Category 3 | B66: Level 2 | C66: Other outcomes | D66: 3 | E66: 6 | F66: 2 | G66: 1 | H66: 1 | I66: 0 | J66: 1 | K66: 1 | L66: 6 | M66: 8 | N66: 5
A67: Category 3 | B67: Level 3 | C67: All outcomes | D67: 2 | E67: 0 | F67: 1 | G67: 0 | H67: 1 | I67: 2 | J67: 1 | K67: 1 | L67: 3 | M67: 2 | N67: 1
A68: Category 3 | B68: Level 3 | C68: Convictions | D68: 0 | E68: 0 | F68: 0 | G68: 0 | H68: 0 | I68: 0 | J68: 1 | K68: 0 | L68: 1 | M68: 0 | N68: 1
A69: Category 3 | B69: Level 3 | C69: Outstanding | D69: 1 | E69: 0 | F69: 0 | G69: 0 | H69: 0 | I69: 2 | J69: 0 | K69: 1 | L69: 1 | M69: 1 | N69: 0
A70: Category 3 | B70: Level 3 | C70: Other outcomes | D70: 1 | E70: 0 | F70: 1 | G70: 0 | H70: 1 | I70: 0 | J70: 0 | K70: 0 | L70: 1 | M70: 1 | N70: 0
A71: Category 4 | B71: All levels | C71: All outcomes | D71: [z] | E71: [z] | F71: [z] | G71: [z] | H71: [z] | I71: [z] | J71: [z] | K71: 0 | L71: 1 | M71: 2 | N71: 5
A72: Category 4 | B72: All levels | C72: Convictions | D72: [z] | E72: [z] | F72: [z] | G72: [z] | H72: [z] | I72: [z] | J72: [z] | K72: 0 | L72: 0 | M72: 1 | N72: 0
A73: Category 4 | B73: All levels | C73: Outstanding | D73: [z] | E73: [z] | F73: [z] | G73: [z] | H73: [z] | I73: [z] | J73: [z] | K73: 0 | L73: 1 | M73: 1 | N73: 4
A74: Category 4 | B74: All levels | C74: Other outcomes | D74: [z] | E74: [z] | F74: [z] | G74: [z] | H74: [z] | I74: [z] | J74: [z] | K74: 0 | L74: 0 | M74: 0 | N74: 1
A75: Category 4 | B75: Level 1 | C75: All outcomes | D75: [z] | E75: [z] | F75: [z] | G75: [z] | H75: [z] | I75: [z] | J75: [z] | K75: 0 | L75: 0 | M75: 0 | N75: 2
A76: Category 4 | B76: Level 1 | C76: Convictions | D76: [z] | E76: [z] | F76: [z] | G76: [z] | H76: [z] | I76: [z] | J76: [z] | K76: 0 | L76: 0 | M76: 0 | N76: 0
A77: Category 4 | B77: Level 1 | C77: Outstanding | D77: [z] | E77: [z] | F77: [z] | G77: [z] | H77: [z] | I77: [z] | J77: [z] | K77: 0 | L77: 0 | M77: 0 | N77: 1
A78: Category 4 | B78: Level 1 | C78: Other outcomes | D78: [z] | E78: [z] | F78: [z] | G78: [z] | H78: [z] | I78: [z] | J78: [z] | K78: 0 | L78: 0 | M78: 0 | N78: 1
A79: Category 4 | B79: Level 2 | C79: All outcomes | D79: [z] | E79: [z] | F79: [z] | G79: [z] | H79: [z] | I79: [z] | J79: [z] | K79: 0 | L79: 0 | M79: 0 | N79: 0
A80: Category 4 | B80: Level 2 | C80: Convictions | D80: [z] | E80: [z] | F80: [z] | G80: [z] | H80: [z] | I80: [z] | J80: [z] | K80: 0 | L80: 0 | M80: 0 | N80: 0
...
